Workbook
Name sekcije_ptice: List2!$A$1:$Y$57

Sheet List1
M1: NAVODILO | N1: Matična stevilka društva
E2: NAROČOLO OBROČKOV ZA PTICE ZA LETO: | J2: 2027 | N2: 1 | O2: DGMŽ Beltinci
I3: Datum : | J3: 46194 | N3: 2 | O3: DRMŽ Brežice
E4: DRUŠTVO matična št. | G4: 0 | J4: =VLOOKUP($F$11,List2!$AC$13:$AG$15,5,FALSE) -> 2026 | K4: Pt | N4: 5 | O4: DRMŽ Jesenice
E5: =VLOOKUP($G$4,sekcije_ptice,3,FALSE) -> . | N5: 7 | O5: DGMŽ Kranj
N6: 8 | O6: DGMŽ Ljubljana Moste-Polje
E7: Vodja sekcije v društvo- | F7: =VLOOKUP($G$4,List2!$A$3:$Y$56,21,FALSE) -> . | G7: =VLOOKUP($G$4,List2!$A$3:$Y$56,3,TRUE) -> #N/A | H7: =VLOOKUP($G$4,List2!$A$3:$Y$56,3,TRUE) -> #N/A | J7: =VLOOKUP($G$4,List2!$A$3:$Y$56,25,FALSE) -> . | K7: =VLOOKUP($G$4,List2!$A$3:$Y$56,23,TRUE) -> #N/A | N7: 10 | O7: DZGMŽ Maribor
A8: Zap.št | C8: Cena obročkov: | F8: =VLOOKUP($G$4,List2!$A$3:$Y$56,22,FALSE) -> . | G8: =VLOOKUP($G$4,List2!$A$3:$Y$56,3,TRUE) -> #N/A | H8: =VLOOKUP($G$4,List2!$A$3:$Y$56,3,TRUE) -> #N/A | I8: =VLOOKUP($G$4,List2!$A$3:$Y$56,3,TRUE) -> #N/A | J8: =VLOOKUP($G$4,List2!$A$3:$Y$56,3,TRUE) -> #N/A | K8: =VLOOKUP($G$4,List2!$A$3:$Y$56,3,TRUE) -> #N/A | N8: 11 | O8: DGMŽ GOJITELJ Miklavž na Dravskem polju
A9: 0 | D9: 0 | F9: =VLOOKUP($G$4,List2!$A$3:$Y$56,23,FALSE) -> . | G9: =VLOOKUP($G$4,List2!$A$3:$Y$56,24,FALSE) -> . | N9: 12 | O9: DGPMŽ Murska Sobota
A10: 1 | B10: Plastika | D10: 0.85 | N10: 14 | O10: DGMPŽ Novo Mesto
A11: 2 | B11: Aluminij | D11: 2.4 | F11: 11 | G11: =VLOOKUP($F$11,List2!$AC$13:$AF$15,3,FALSE) -> Redno naročilo | J11: =VLOOKUP($F$11,List2!$AC$13:$AF$15,4,FALSE) -> 1021 | N11: 16 | O11: DGMŽ Pragersko
A12: 3 | B12: Nerjaveče jeklo | N12: 17 | O12: DGMŽ Ptuj
A13: Zap. | B13: Matična | D13: Št. | F13: Dimenzija | H13: Št. | K13: Znesek | N13: 18 | O13: DRMŽ na Koroškem
A14: št | B14: št.društva | C14: Društvo | D14: člana | E14: Priimek in ime | F14: (mm) | G14: Količina | H14: mat. | I14: Material | J14: Cena/kom | K14: skupaj | N14: 22 | O14: DGPMŽ Velike Lašče
A15: 1 | B15: =+$G$4 -> 0 | C15: =VLOOKUP($G$4,sekcije_ptice,4,FALSE) -> . | I15: =VLOOKUP(H15,$A$9:$D$12,2,TRUE) -> 0 | J15: =VLOOKUP(H15,$A$9:$D$12,4,TRUE) -> 0 | K15: =G15*J15 -> 0 | N15: 23 | O15: DGPMŽ Vrhnika | S15: =IF(H15=1,G15,0) -> 0 | T15: =IF(H15=2,G15,0) -> 0 | U15: =IF(H15=3,G15,0) -> 0
A16: 2 | B16: =+$G$4 -> 0 | C16: =VLOOKUP($G$4,sekcije_ptice,4,FALSE) -> . | I16: =VLOOKUP(H16,$A$9:$D$12,2,TRUE) -> 0 | J16: =VLOOKUP(H16,$A$9:$D$12,4,TRUE) -> 0 | K16: =G16*J16 -> 0 | N16: 24 | O16: DGMŽ Škofja Loka | S16: =IF(H16=1,G16,0) -> 0 | T16: =IF(H16=2,G16,0) -> 0 | U16: =IF(H16=3,G16,0) -> 0
A17: 3 | B17: =+$G$4 -> 0 | C17: =VLOOKUP($G$4,sekcije_ptice,4,FALSE) -> . | I17: =VLOOKUP(H17,$A$9:$D$12,2,TRUE) -> 0 | J17: =VLOOKUP(H17,$A$9:$D$12,4,TRUE) -> 0 | K17: =G17*J17 -> 0 | N17: 25 | O17: ZZGMŽ Trbovlje | S17: =IF(H17=1,G17,0) -> 0 | T17: =IF(H17=2,G17,0) -> 0 | U17: =IF(H17=3,G17,0) -> 0
A18: 4 | B18: =+$G$4 -> 0 | C18: =VLOOKUP($G$4,sekcije_ptice,4,FALSE) -> . | I18: =VLOOKUP(H18,$A$9:$D$12,2,TRUE) -> 0 | J18: =VLOOKUP(H18,$A$9:$D$12,4,TRUE) -> 0 | K18: =G18*J18 -> 0 | N18: 27 | O18: DGMPŽ Ormož | S18: =IF(H18=1,G18,0) -> 0 | T18: =IF(H18=2,G18,0) -> 0 | U18: =IF(H18=3,G18,0) -> 0
A19: 5 | B19: =+$G$4 -> 0 | C19: =VLOOKUP($G$4,sekcije_ptice,4,FALSE) -> . | I19: =VLOOKUP(H19,$A$9:$D$12,2,TRUE) -> 0 | J19: =VLOOKUP(H19,$A$9:$D$12,4,TRUE) -> 0 | K19: =G19*J19 -> 0 | N19: 30 | O19: DGPMŽ Ivančna Gorica | S19: =IF(H19=1,G19,0) -> 0 | T19: =IF(H19=2,G19,0) -> 0 | U19: =IF(H19=3,G19,0) -> 0
A20: 6 | B20: =+$G$4 -> 0 | C20: =VLOOKUP($G$4,sekcije_ptice,4,FALSE) -> . | I20: =VLOOKUP(H20,$A$9:$D$12,2,TRUE) -> 0 | J20: =VLOOKUP(H20,$A$9:$D$12,4,TRUE) -> 0 | K20: =G20*J20 -> 0 | N20: 32 | O20: DGPMŽ Odranci | S20: =IF(H20=1,G20,0) -> 0 | T20: =IF(H20=2,G20,0) -> 0 | U20: =IF(H20=3,G20,0) -> 0
A21: 7 | B21: =+$G$4 -> 0 | C21: =VLOOKUP($G$4,sekcije_ptice,4,FALSE) -> . | I21: =VLOOKUP(H21,$A$9:$D$12,2,TRUE) -> 0 | J21: =VLOOKUP(H21,$A$9:$D$12,4,TRUE) -> 0 | K21: =G21*J21 -> 0 | N21: 33 | O21: SDGMŽO Žalec | S21: =IF(H21=1,G21,0) -> 0 | T21: =IF(H21=2,G21,0) -> 0 | U21: =IF(H21=3,G21,0) -> 0
A22: 8 | B22: =+$G$4 -> 0 | C22: =VLOOKUP($G$4,sekcije_ptice,4,FALSE) -> . | I22: =VLOOKUP(H22,$A$9:$D$12,2,TRUE) -> 0 | J22: =VLOOKUP(H22,$A$9:$D$12,4,TRUE) -> 0 | K22: =G22*J22 -> 0 | N22: 34 | O22: DGPMŽ Laško | S22: =IF(H22=1,G22,0) -> 0 | T22: =IF(H22=2,G22,0) -> 0 | U22: =IF(H22=3,G22,0) -> 0
A23: 9 | B23: =+$G$4 -> 0 | C23: =VLOOKUP($G$4,sekcije_ptice,4,FALSE) -> . | I23: =VLOOKUP(H23,$A$9:$D$12,2,TRUE) -> 0 | J23: =VLOOKUP(H23,$A$9:$D$12,4,TRUE) -> 0 | K23: =G23*J23 -> 0 | N23: 36 | O23: Združenje LGŽ Maribor | S23: =IF(H23=1,G23,0) -> 0 | T23: =IF(H23=2,G23,0) -> 0 | U23: =IF(H23=3,G23,0) -> 0
A24: 10 | B24: =+$G$4 -> 0 | C24: =VLOOKUP($G$4,sekcije_ptice,4,FALSE) -> . | I24: =VLOOKUP(H24,$A$9:$D$12,2,TRUE) -> 0 | J24: =VLOOKUP(H24,$A$9:$D$12,4,TRUE) -> 0 | K24: =G24*J24 -> 0 | N24: 37 | O24: DGMPŽ Dravinjska dolina | S24: =IF(H24=1,G24,0) -> 0 | T24: =IF(H24=2,G24,0) -> 0 | U24: =IF(H24=3,G24,0) -> 0
A25: 11 | B25: =+$G$4 -> 0 | C25: =VLOOKUP($G$4,sekcije_ptice,4,FALSE) -> . | I25: =VLOOKUP(H25,$A$9:$D$12,2,TRUE) -> 0 | J25: =VLOOKUP(H25,$A$9:$D$12,4,TRUE) -> 0 | K25: =G25*J25 -> 0 | N25: 40 | O25: DGMPŽ Gornja Radgona | S25: =IF(H25=1,G25,0) -> 0 | T25: =IF(H25=2,G25,0) -> 0 | U25: =IF(H25=3,G25,0) -> 0
A26: 12 | B26: =+$G$4 -> 0 | C26: =VLOOKUP($G$4,sekcije_ptice,4,FALSE) -> . | I26: =VLOOKUP(H26,$A$9:$D$12,2,TRUE) -> 0 | J26: =VLOOKUP(H26,$A$9:$D$12,4,TRUE) -> 0 | K26: =G26*J26 -> 0 | N26: 50 | O26: DVVPMŽ RAKUN Slovenska Bistrica | S26: =IF(H26=1,G26,0) -> 0 | T26: =IF(H26=2,G26,0) -> 0 | U26: =IF(H26=3,G26,0) -> 0
A27: 13 | B27: =+$G$4 -> 0 | C27: =VLOOKUP($G$4,sekcije_ptice,4,FALSE) -> . | I27: =VLOOKUP(H27,$A$9:$D$12,2,TRUE) -> 0 | J27: =VLOOKUP(H27,$A$9:$D$12,4,TRUE) -> 0 | K27: =G27*J27 -> 0 | N27: 52 | O27: KGGAPK King klub Slovenije | S27: =IF(H27=1,G27,0) -> 0 | T27: =IF(H27=2,G27,0) -> 0 | U27: =IF(H27=3,G27,0) -> 0
A28: 14 | B28: =+$G$4 -> 0 | C28: =VLOOKUP($G$4,sekcije_ptice,4,FALSE) -> . | I28: =VLOOKUP(H28,$A$9:$D$12,2,TRUE) -> 0 | J28: =VLOOKUP(H28,$A$9:$D$12,4,TRUE) -> 0 | K28: =G28*J28 -> 0 | S28: =IF(H28=1,G28,0) -> 0 | T28: =IF(H28=2,G28,0) -> 0 | U28: =IF(H28=3,G28,0) -> 0
A29: 15 | B29: =+$G$4 -> 0 | C29: =VLOOKUP($G$4,sekcije_ptice,4,FALSE) -> . | I29: =VLOOKUP(H29,$A$9:$D$12,2,TRUE) -> 0 | J29: =VLOOKUP(H29,$A$9:$D$12,4,TRUE) -> 0 | K29: =G29*J29 -> 0 | S29: =IF(H29=1,G29,0) -> 0 | T29: =IF(H29=2,G29,0) -> 0 | U29: =IF(H29=3,G29,0) -> 0
A30: 16 | B30: =+$G$4 -> 0 | C30: =VLOOKUP($G$4,sekcije_ptice,4,FALSE) -> . | I30: =VLOOKUP(H30,$A$9:$D$12,2,TRUE) -> 0 | J30: =VLOOKUP(H30,$A$9:$D$12,4,TRUE) -> 0 | K30: =G30*J30 -> 0 | S30: =IF(H30=1,G30,0) -> 0 | T30: =IF(H30=2,G30,0) -> 0 | U30: =IF(H30=3,G30,0) -> 0
A31: 17 | B31: =+$G$4 -> 0 | C31: =VLOOKUP($G$4,sekcije_ptice,4,FALSE) -> . | I31: =VLOOKUP(H31,$A$9:$D$12,2,TRUE) -> 0 | J31: =VLOOKUP(H31,$A$9:$D$12,4,TRUE) -> 0 | K31: =G31*J31 -> 0 | S31: =IF(H31=1,G31,0) -> 0 | T31: =IF(H31=2,G31,0) -> 0 | U31: =IF(H31=3,G31,0) -> 0
A32: 18 | B32: =+$G$4 -> 0 | C32: =VLOOKUP($G$4,sekcije_ptice,4,FALSE) -> . | I32: =VLOOKUP(H32,$A$9:$D$12,2,TRUE) -> 0 | J32: =VLOOKUP(H32,$A$9:$D$12,4,TRUE) -> 0 | K32: =G32*J32 -> 0 | S32: =IF(H32=1,G32,0) -> 0 | T32: =IF(H32=2,G32,0) -> 0 | U32: =IF(H32=3,G32,0) -> 0
A33: 19 | B33: =+$G$4 -> 0 | C33: =VLOOKUP($G$4,sekcije_ptice,4,FALSE) -> . | I33: =VLOOKUP(H33,$A$9:$D$12,2,TRUE) -> 0 | J33: =VLOOKUP(H33,$A$9:$D$12,4,TRUE) -> 0 | K33: =G33*J33 -> 0 | S33: =IF(H33=1,G33,0) -> 0 | T33: =IF(H33=2,G33,0) -> 0 | U33: =IF(H33=3,G33,0) -> 0
A34: 20 | B34: =+$G$4 -> 0 | C34: =VLOOKUP($G$4,sekcije_ptice,4,FALSE) -> . | I34: =VLOOKUP(H34,$A$9:$D$12,2,TRUE) -> 0 | J34: =VLOOKUP(H34,$A$9:$D$12,4,TRUE) -> 0 | K34: =G34*J34 -> 0 | S34: =IF(H34=1,G34,0) -> 0 | T34: =IF(H34=2,G34,0) -> 0 | U34: =IF(K34=3,J34*M34,0) -> 0
F35: SKUPAJ | G35: =SUM(G15:G34) -> 0 | K35: =SUM(K15:K34) -> 0 | S35: =SUM(S15:S34) -> 0 | T35: =SUM(T15:T34) -> 0 | U35: =SUM(U15:U34) -> 0
A36: Plastika: | C36: 2,0/2,0/2,5/2,7/3/3,2/3,5/3,8/4/4,2/4,4/4,5/5/5,5/6/6,5/7/8/9/10/11/12/13/14 /15 /16/18/20/22/24/27/32 mm
A37: Aluminij: | C37: 2,0/2,2/2,3/2,5/2,7/2,8/3/3,2/3,5/3,8/4/4,2/4,4/4,5/5/5,5/6/6,5/7/7,5/8/8,5/9/9,5/10/11/12/13/14/15/16/18/20/22/24/27/28/30/32 mm
A38: Nerjaveče jeklo: | C38: 6,5/7/7,5/8/8,5/9/9,5/10/11/12/13/14/15/16 mm
A40: Obročke poslati na naslov:
A41: Ime in priimek:
A42: Naslov: | E42: Pošta
E44: Žig | O44: Pošlji
O45: Natisni
A46: Podpis naročnika: | G46: Podpis predsednik društva:
A49: Kraj in datum:
B54: RAČUN
A57: =$G$4 -> 0
A58: =$E$5 -> .
A59: =VLOOKUP($G$4,List2!$A$3:$I$56,List2!$G$1,FALSE) -> . | H59: SZDGPMŽ
A60: =VLOOKUP($G$4,List2!$A$3:$I$56,List2!$H$1,FALSE) -> . | B60: =VLOOKUP($G$4,List2!$A$3:$I$56,List2!$I$1,FALSE) -> . | H60: Pesje 24
H61: 8270 KRŠKO
G62: DŠ: | H62: 18180566
G63: TRR: | H63: SI56 02150 0090924107
J64: -
F66: Račun številka :
G67: Datum : | I67: =$J$3 -> 46194
G68: Valuta: | I68: 46218
C74: Na podlagi oddanega naročila vam zaračunavomo:
C76: NAROČILO | D76: za leto: | E76: =+J2 -> 2027
C77: Vrsta naročila | E77: Material | F77: kos | G77: cena | H77: cena
C78: Obročki za ptice | E78: Plastika | F78: =+S35 -> 0 | G78: =+D10 -> 0.85 | H78: =F78*G78 -> 0
C79: =G11 -> Redno naročilo | E79: Aluminij | F79: =+T35 -> 0 | G79: =+D11 -> 2.4 | H79: =F79*G79 -> 0
E80: Nerjaveče jeklo | F80: =+U35 -> 0 | G80: =+D12 -> 0 | H80: =F80*G80 -> 0
C81: Poštnina - strošek dostave | H81: 5
F82: Za plačilo: | H82: =SUM(H78:I81) -> 5
B84: Prosimo, da se pri plačilo sklicujete na številko sklica: | H84: =A57 &J64&J11&-J2 -> 0-1021-2027
B86: DDV ni obračunan na podlagi 1. odstavka 94. člena Zakona o DDV
B88: Naročilo bo sprejeto ob predloženem potrdilu o plačanem računu!
A90: Izpolni odgovorna oseba pri SZDGPMŽ
E92: Žig
A93: Račun plačan dne :
G94: Podpis :

Sheet List2
B1: 2 | C1: 3 | D1: 4 | E1: 5 | F1: 6 | G1: 7 | H1: 8 | I1: 9 | J1: 10 | K1: 11 | L1: 12 | M1: 13 | N1: 14 | O1: 15 | P1: 16 | Q1: 17 | R1: 18 | S1: 19 | T1: 20 | U1: 21 | V1: 22 | W1: 23 | X1: 24 | Y1: 25
A2: SZDGPMŽ_ID | B2: Matična stevilka | C2: Ime društva | D2: Skrajšano ime društva | E2: Občina sedeža društva | F2: Sedež droštva | G2: Naslov sedeža | H2: Pošta | I2: Kraj | J2: Osebno ime 1 zastopnik | K2: Datum registracije | L2: SZDGPMŽ_ID | M2: Status društva_aktivno | N2: Davčna številka | O2: TRR številka | P2: Ime banke | Q2: Telefon_s | R2: Telefon_m | S2: E-naslov | T2: ID-član7 | U2: Sekcija za ptice | V2: Naslov7 | W2: Pošta7 | X2: Kraj7 | Y2: Telefon | Z2: e-naslov7 | AE2: SKLIC -namen nakazila | AF2: SKLIC -namen nakazila
A3: 99 | B3: 5219230000 | C3: Slovenska zveza društev gojiteljev pasemskih malih živali | D3: SZDGPMŽ | E3: Krško | F3: Pesje | G3: Pesje 24 | H3: 8270 | I3: Krško | J3: Ivan Lopatič | K3: 28562 | L3: 99 | M3: TRUE | N3: 18180566 | O3: SI56021500090924107 | P3: NLB | R3: 40281524 | S3: szdgpmz@gmail.com | T3: 18109 | U3: Hartman Sebastjan | V3: Otiški vrh 150 | W3: 2373 | X3: Šentjanž pri Dravogradu | Y3: 70252348 | Z3: hartman.sebagmail.com
A4: 40 | B4: 4110331000 | C4: DRUŠTVO GOJITELJEV MALIH PASEMSKIH ŽIVALI GORNJA RADGONA | D4: DGMPŽ Gornja Radgona | E4: Gornja Radgona | F4: Aženski Vrh | G4: Aženski Vrh 15 | H4: 9250 | I4: Gornja Radgona | J4: Andrejka Serdt | K4: 43419 | L4: 40 | M4: TRUE | R4: 70392676 | S4: andrejkaspelaleben@gmail.com | T4: 40001 | U4: Sorko Sandi | V4: Cankarjeva 29 | W4: 2342 | X4: Ruše | Y4: 40211175
A5: 12 | B5: 5265240000 | C5: Društvo gojiteljev pasemskih malih živali Murska Sobota | D5: DGPMŽ Murska Sobota | E5: Murska Sobota | F5: Murska sobota | G5: Cankarjeva ulica 13 | H5: 9000 | I5: Murska Sobota | J5: Olga Zver | K5: 31216 | L5: 12 | M5: TRUE | N5: 5265240 | O5: SI560234000016446054 | R5: 41646804 | S5: olgicazver@gmail.com | T5: 12027 | U5: Ropoša Benjemin | V5: Gaberje - Gornja ulica 74 | W5: 9220 | X5: Lendava - Lendva | Y5: 51350146 | AC5: 3 | AD5: 13 | AE5: Obročki za golobe | AF5: 1019 | AG5: 2026
A6: 32 | B6: 1163116000 | C6: DRUŠTVO GOJITELJEV PASEMSKIH MALIH ŽIVALI ODRANCI | D6: DGPMŽ Odranci | E6: Odranci | F6: Odranci | G6: Panonska ulica 33 | H6: 9233 | I6: Odranci | J6: Karel Horvat | K6: 36466 | L6: 32 | M6: TRUE | N6: 59139331 | O6: SI56048810002900819 | R6: 41673569 | S6: karel@zagarstvo-horvat.si | T6: 32054 | U6: Kuhar Mitja | V6: Motovilci 27 | W6: 9264 | X6: Grad | Y6: 41868933 | Z6: mitja.kuhar66@gmail.com | AC6: 4 | AD6: 14 | AE6: Obročki za perutnino | AF6: 1020 | AG6: 2026
A7: 11 | B7: 5270723000 | C7: Društvo gojiteljev malih živali Gojitelj Miklavž na Dravskem Polju | D7: DGMŽ GOJITELJ Miklavž na Dravskem polju | E7: Miklavž na Dravskem | F7: Miklavž na Dravskem | G7: Nad izviri 6 | H7: 2204 | I7: Miklavž na Dravskem polju | J7: Boštjan Koren | K7: 31572 | L7: 11 | M7: TRUE | N7: 26778840 | O7: SI56045150000403543 | P7: NKBM | R7: 40459593 | S7: koren.bostjan1@gmail.com | T7: 11007 | U7: Peršoh Franc | V7: Marjeta 109b | W7: 2206 | X7: Marjeta na Dravskem polju | Y7: 41477503 | AC7: 5 | AE7: Obročki za ptice | AF7: 1021 | AG7: 2026
A8: 10 | B8: 5109175000 | C8: Društvo združenih gojiteljev malih živali Maribor | D8: DZGMŽ Maribor | E8: Maribor | F8: Maribor | G8: Obrežna ulica 1 | H8: 2000 | I8: Maribor | J8: Dražen Srpak | K8: 22543 | L8: 10 | M8: TRUE | N8: 69336890 | O8: SI56 0417 3000 0738 946 | P8: Nova KBM | R8: 41311579 | S8: kokol@elektro.maribor.si | T8: 10031 | U8: Zorko Boštjan | V8: Vinska pot 45 | W8: 2342 | X8: Ruše | Y8: 40279614 | AC8: 6 | AD8: 15 | AE8: Obročki za golobe | AF8: 1022 | AG8: 2026
A9: 24 | B9: 1676431000 | C9: Društvo gojiteljev malih živali Škofja Loka | D9: DGMŽ Škofja Loka | E9: Škofja Loka | F9: Trata 22 | G9: Trata 22 | H9: 4220 | I9: Škofja Loka | J9: Tomaž Benedik | K9: 38105 | L9: 24 | M9: TRUE | N9: 37615009 | O9: SI56023120254755862 | P9: NLB | R9: 41588639 | S9: marko.lah@sibo.eu.com | T9: 24026 | U9: Perko Boštjan | V9: Mestni trg 16 | W9: 1294 | X9: Višnja gora | Y9: 31564530 | Z9: bperko70@gmail.com | AC9: 7 | AD9: 16 | AE9: Obročki za perutnino | AF9: 1023 | AG9: 2026
A10: 1 | B10: 5225736000 | C10: Društvo gojiteljev malih živali Beltinci | D10: DGMŽ Beltinci | E10: Beltinci | F10: Beltinci | G10: Travniška ulica 14 | H10: 9231 | I10: Beltinci | J10: Kovačič Janez | K10: 29908 | L10: 1 | M10: TRUE | N10: 62296175 | O10: SI56023460012788375 | P10: NLB-Poslovna enota Beltinci | R10: 40613712 | S10: alen.bernardi@gmail.com | T10: 1025 | U10: Virag Štefan | V10: Pot ob Črncu 7 | W10: 9231 | X10: Beltinci | Y10: 31258530 | AC10: 8 | AE10: Obročki za ptice | AF10: 1024 | AG10: 2026
A11: 17 | B11: 5265231000 | C11: Društvo gojiteljev malih živali Ptuj | D11: DGMŽ Ptuj | E11: Ptuj | F11: Ptuj | G11: Zadružni trg 12 | H11: 2250 | I11: Ptuj | J11: Jože Šlamberger | K11: 28296 | L11: 17 | M11: TRUE | N11: 55396879 | O11: SI56 0215 0008 7806 139 | R11: 31295075 | S11: slamberger.joze@gmail.com | T11: 17017 | U11: Lesjak Franc | V11: Draženci 51 | W11: 2288 | X11: Hajdina | AG11: 2026
A12: 14 | B12: 5837057000 | C12: Društvo gojiteljev malih pasemskih živali Novo mesto | D12: DGMPŽ Novo Mesto | E12: Novo mesto | F12: Novo mesto | G12: Veliki Slatnik 34 a | H12: 8000 | I12: Novo mesto | J12: Alojz Vidmar | K12: 34409 | L12: 14 | M12: TRUE | N12: 59264616 | O12: SI56 1990 6501 0966 398 | P12: Deželna banka Slovenije | R12: 51344525 | S12: marinka.srebernjak@gmail.com | T12: 14005 | U12: Brulc Slavko | V12: Lutrško selo 8 a | W12: 8222 | X12: Otočec | Y12: 41996373 | AG12: 2026
A13: 27 | B13: 5937183000 | C13: Društvo gojiteljev malih pasemskih živali Ormož | D13: DGMPŽ Ormož | E13: Ormož | F13: Ormož | G13: Dobrava 2 | H13: 2270 | I13: Ormož | J13: Jožef Plohl | K13: 35111 | L13: 27 | M13: TRUE | N13: 30253063 | O13: SI56031231012380795 | P13: SKB d.d. Podružnica Ormož | Q13: 27192068 | R13: 31369779 | S13: branko.hergula@gmail.com | T13: 27011 | U13: Cafuta Franc | V13: Zamušani 22 c | W13: 2272 | X13: Gorišnica | Y13: 41687784 | Z13: cafuta666@hotmail.com | AC13: 11 | AE13: Redno naročilo | AF13: 1021 | AG13: 2026
A14: 2 | B14: 5245559000 | C14: Društvo rejcev malih živali Brežice | D14: DRMŽ Brežice | E14: Brežice | F14: Brežice | G14: Slovenska vas 46 | H14: 8261 | I14: Jesenice na Dolenjskem | J14: Ivan Lopatič | K14: 30044 | L14: 2 | M14: TRUE | N14: 92938965 | O14: SI56 6000 0000 0253 823 | P14: Hranilnica LON | R14: 31836402 | S14: ivan.lopatic@amis.net | T14: 2042 | U14: Gerjevič Vladimir | V14: Gornji Lenart 61 | W14: 8250 | X14: Brežice | Y14: 41903577 | AC14: 12 | AE14: Po naročilo | AF14: 1024 | AG14: 2026
A15: 30 | B15: 1178393000 | C15: Društvo gojiteljev pasemskih malih živali Ivančna Gorica | D15: DGPMŽ Ivančna Gorica | E15: Ivančna Gorica | F15: Vir pri Stični | G15: Vir pri Stični 101 | H15: 1295 | I15: Ivančna Gorica | J15: Ivan Janežič | K15: 35767 | L15: 30 | M15: TRUE | N15: 12336319 | O15: SI56020410091898575 | P15: NLB | R15: 31731127 | S15: matej.pajk@gmail.com | T15: 30004 | U15: Pajk Branko | V15: Vir pri Stični 20 a | W15: 1295 | X15: Ivančna Gorica | Y15: 41435163
A16: 50 | B16: 5946379000 | C16: Društvo za varstvo in vzgojo ptic in malih živali rakun Slovenska Bisreica | D16: DVVPMŽ RAKUN Slovenska Bistrica | E16: Slovenska Bistrica | F16: Slovenska Bistrica | G16: Tomšičeva ulica 38 | H16: 2310 | I16: Slovenska Bistrica | J16: Rok Paj | K16: 35146 | L16: 50 | M16: TRUE | N16: 42195681 | O16: SI5604430000838970 | P16: KBM | Q16: 28025811 | R16: 40797973 | S16: pavel.genc@gmail.com | T16: 50001 | U16: Kamenik Matjaž | V16: Leskovec 110 | W16: 2331 | X16: Pragersko | Y16: 31588769 | Z16: matjaz.kamenik7@gmail.com
A17: 36 | B17: 1435191000 | C17: Združenje ljubiteljev in gojiteljev živali Maribor | D17: Združenje LGŽ Maribor | E17: Maribor | F17: Maribor | G17: Petrovičeva ulica 12 | H17: 2000 | I17: Maribor | J17: Marjan Lorber | K17: 36510 | L17: 36 | M17: TRUE | N17: 13404300 | P17: NKBM | R17: 31418691 | S17: petovia@siol.net | T17: 36010 | U17: Lorber Jože | V17: Novo naselje 5 | W17: 2345 | X17: Bistrica ob Dravi | Y17: 31371859
A18: 37 | B18: 4005864000 | C18: Društvo gojiteljev malih pasemskih živali Dravinjska dolina | D18: DGMPŽ Dravinjska dolina | E18: Slovenjske Konice | F18: Slovenjske Konice | G18: Mizarska ulica 1 | H18: 3210 | I18: Slovenske Konjice | J18: Stanislav Novak | K18: 39798 | L18: 37 | M18: TRUE | N18: 42422949 | O18: SI56 0400 1004 7468 782 | P18: Nova KBM | R18: 40897212 | S18: dgmpz.dravinjska.dolina@gmail.com | T18: 37048 | U18: Venturini Povše Bojan | V18: Parož 6 | W18: 3204 | X18: Dobrna | Y18: 51649900 | Z18: dgmpz.ptice@gmail.com
A19: 18 | B19: 5264456000 | C19: Društvo rejcev malih živali na Koroškem | D19: DGMŽ na Koroškem | E19: Ravne na Koroškem | F19: Podgora | G19: Podgora 16 a | H19: 2394 | I19: Kotlje | J19: Ivan Ledinek | K19: 30573 | L19: 18 | M19: TRUE | N19: 70908281 | O19: SI56 0247 0025 3756 974 | P19: NLB | R19: 31736351 | S19: stanislava.jehart@gmail.com | T19: 18109 | U19: Hartman Sebastjan | V19: Otiški vrh 150 | W19: 2373 | X19: Šentjanž pri Dravugradu | Y19: 70252348 | Z19: hartman.seba@gmail.com
A20: 22 | B20: 5267641000 | C20: Društvo gojiteljev pasemskih malih živali Velike Lašče | D20: DGPMŽ Velike Lašče | E20: Velike Lašče | F20: Velike Lašče | G20: Na postajo 14 | H20: 1315 | I20: Velike Lašče | J20: Levstik David | K20: 31362 | L20: 22 | M20: TRUE | N20: 77281071 | O20: SI56043020002653904 | P20: NKBM | R20: 41812827 | S20: dgpmz.velikelasce@gmail.com | T20: 22015 | U20: Jakopin Ludvik | V20: Zavoda 14 | W20: 1317 | X20: Sodražica | Y20: 31684427 | Z20: ludvik.jakopin@gmail.com
A21: 0 | B21: . | C21: . | D21: . | E21: . | F21: . | G21: . | H21: . | I21: . | J21: . | K21: . | L21: . | M21: . | N21: . | O21: . | P21: . | Q21: . | R21: . | S21: . | T21: . | U21: . | V21: . | W21: . | X21: . | Y21: . | AB21: .
A22: =B22 -> 1 | B22: 1 | C22: Društvo gojiteljev malih živali Beltinci | D22: DGMŽ Beltinci | F22: - | G22: - | H22: - | I22: - | J22: - | K22: - | L22: - | M22: - | N22: - | O22: - | P22: - | Q22: - | R22: - | S22: - | T22: - | U22: - | V22: - | W22: - | X22: - | Y22: -
A23: =B23 -> 2 | B23: 2 | C23: Društvo rejcev malih živali Brežice | D23: DRMŽ Brežice | F23: - | G23: - | H23: - | I23: - | J23: - | K23: - | L23: - | M23: - | N23: - | O23: - | P23: - | Q23: - | R23: - | S23: - | T23: - | U23: - | V23: - | W23: - | X23: - | Y23: -
A24: =B24 -> 5 | B24: 5 | C24: Društvo rejcev malih živali Jesenice | D24: DRMŽ Jesenice | F24: - | G24: - | H24: - | I24: - | J24: - | K24: - | L24: - | M24: - | N24: - | O24: - | P24: - | Q24: - | R24: - | S24: - | T24: - | U24: - | V24: - | W24: - | X24: - | Y24: -
A25: =B25 -> 6 | B25: 6 | C25: Društvo gojiteljev malih živali Kamnik - Domžale - Mengeš | D25: DGMŽ Kamnik-Domžale-Mengeš | F25: - | G25: - | H25: - | I25: - | J25: - | K25: - | L25: - | M25: - | N25: - | O25: - | P25: - | Q25: - | R25: - | S25: - | T25: - | U25: - | V25: - | W25: - | X25: - | Y25: -
A26: =B26 -> 7 | B26: 7 | C26: DRUŠTVO GOJITELJEV MALIH ŽIVALI KRANJ | D26: DGMŽ Kranj | F26: - | G26: - | H26: - | I26: - | J26: - | K26: - | L26: - | M26: - | N26: - | O26: - | P26: - | Q26: - | R26: - | S26: - | T26: - | U26: - | V26: - | W26: - | X26: - | Y26: - | AB26: 0 | AC26: 0
A27: =B27 -> 8 | B27: 8 | C27: Društvo gojiteljev malih živali Ljubljana Moste - Polje | D27: DGMŽ Ljubljana Moste-Polje | F27: - | G27: - | H27: - | I27: - | J27: - | K27: - | L27: - | M27: - | N27: - | O27: - | P27: - | Q27: - | R27: - | S27: - | T27: - | U27: - | V27: - | W27: - | X27: - | Y27: -
A28: =B28 -> 10 | B28: 10 | C28: Društvo združenih gojiteljev malih živali Maribor | D28: DZGMŽ Maribor | F28: - | G28: - | H28: - | I28: - | J28: - | K28: - | L28: - | M28: - | N28: - | O28: - | P28: - | Q28: - | R28: - | S28: - | T28: - | U28: - | V28: - | W28: - | X28: - | Y28: -
A29: =B29 -> 11 | B29: 11 | C29: Društvo gojiteljev malih živali Gojitelj Miklavž na Dravskem Polju | D29: DGMŽ GOJITELJ Miklavž na Dravskem polju | F29: - | G29: - | H29: - | I29: - | J29: - | K29: - | L29: - | M29: - | N29: - | O29: - | P29: - | Q29: - | R29: - | S29: - | T29: - | U29: - | V29: - | W29: - | X29: - | Y29: -
A30: =B30 -> 12 | B30: 12 | C30: Društvo gojiteljev pasemskih malih živali Murska Sobota | D30: DGPMŽ Murska Sobota | F30: - | G30: - | H30: - | I30: - | J30: - | K30: - | L30: - | M30: - | N30: - | O30: - | P30: - | Q30: - | R30: - | S30: - | T30: - | U30: - | V30: - | W30: - | X30: - | Y30: -
A31: =B31 -> 14 | B31: 14 | C31: Društvo gojiteljev malih pasemskih živali Novo mesto | D31: DGMPŽ Novo Mesto | F31: - | G31: - | H31: - | I31: - | J31: - | K31: - | L31: - | M31: - | N31: - | O31: - | P31: - | Q31: - | R31: - | S31: - | T31: - | U31: - | V31: - | W31: - | X31: - | Y31: -
A32: =B32 -> 15 | B32: 15 | C32: Društvo gojiteljev malih živali Oplotnica | D32: DGMŽ Oplotnica | F32: - | G32: - | H32: - | I32: - | J32: - | K32: - | L32: - | M32: - | N32: - | O32: - | P32: - | Q32: - | R32: - | S32: - | T32: - | U32: - | V32: - | W32: - | X32: - | Y32: -
A33: =B33 -> 16 | B33: 16 | C33: Društvo gojiteljev malih živali Pragersko | D33: DGMŽ Pragersko | F33: - | G33: - | H33: - | I33: - | J33: - | K33: - | L33: - | M33: - | N33: - | O33: - | P33: - | Q33: - | R33: - | S33: - | T33: - | U33: - | V33: - | W33: - | X33: - | Y33: -
A34: =B34 -> 17 | B34: 17 | C34: Društvo gojiteljev malih živali Ptuj | D34: DGMŽ Ptuj | F34: - | G34: - | H34: - | I34: - | J34: - | K34: - | L34: - | M34: - | N34: - | O34: - | P34: - | Q34: - | R34: - | S34: - | T34: - | U34: - | V34: - | W34: - | X34: - | Y34: -
A35: =B35 -> 18 | B35: 18 | C35: Društvo rejcev malih živali na Koroškem | D35: DRMŽ na Koroškem | F35: - | G35: - | H35: - | I35: - | J35: - | K35: - | L35: - | M35: - | N35: - | O35: - | P35: - | Q35: - | R35: - | S35: - | T35: - | U35: - | V35: - | W35: - | X35: - | Y35: -
A36: =B36 -> 22 | B36: 22 | C36: Društvo gojiteljev pasemskih malih živali Velike Lašče | D36: DGPMŽ Velike Lašče | F36: - | G36: - | H36: - | I36: - | J36: - | K36: - | L36: - | M36: - | N36: - | O36: - | P36: - | Q36: - | R36: - | S36: - | T36: - | U36: - | V36: - | W36: - | X36: - | Y36: -
A37: =B37 -> 23 | B37: 23 | C37: Društvo gojiteljev pasemskih malih živali Vrhnika | D37: DGPMŽ Vrhnika | F37: - | G37: - | H37: - | I37: - | J37: - | K37: - | L37: - | M37: - | N37: - | O37: - | P37: - | Q37: - | R37: - | S37: - | T37: - | U37: - | V37: - | W37: - | X37: - | Y37: -
A38: =B38 -> 24 | B38: 24 | C38: Društvo gojiteljev malih živali Škofja Loka | D38: DGMŽ Škofja Loka | F38: - | G38: - | H38: - | I38: - | J38: - | K38: - | L38: - | M38: - | N38: - | O38: - | P38: - | Q38: - | R38: - | S38: - | T38: - | U38: - | V38: - | W38: - | X38: - | Y38: -
... A56: =B56 -> 99 | B56: 99 | C56: Slovenska zveza društev gojiteljev pasemskih malih živali | D56: SZDGPMŽ | F56: - | G56: - | H56: - | I56: - | J56: - | K56: - | L56: - | M56: - | N56: - | O56: - | P56: - | Q56: - | R56: - | S56: - | T56: - | U56: - | V56: - | W56: - | X56: - | Y56: -

Sheet List8

Sheet List3

Sheet List4

Sheet List5

Sheet List6

Sheet List7
