Workbook

Sheet List1
A1: NAROČILO obročkov | G1: SZDGPMŽ | K1: NAVODILO | L1: Matična stevilka društva
G2: Pesje 24 | L2: 1 | M2: DGMŽ Beltinci
A3: Datum naročila | C3: 46193 | G3: 8270 Krško | L3: 2 | M3: DRMŽ Brežice
A4: za leto | B4: 2027 | L4: 5 | M4: DRMŽ Jesenice
A5: 4 | B5: =VLOOKUP($A5,List2!$T$3:$W$14,3,FALSE) -> Obročki za perutnino | E5: =A5+A6 -> 14 | F5: =VLOOKUP($E5,List2!$U$3:$X$11,3,FALSE) -> 1020 | G5: =VLOOKUP($E5,List2!$U$3:$X$11,4,FALSE) -> 2026 | L5: 7 | M5: DGMŽ Kranj | O5: =VLOOKUP($D$8,List2!$A$3:$M$33,List2!$D$1,FALSE) -> 0 | P5: =VLOOKUP($D$8,List2!$A$3:$M$33,List2!$E$1,FALSE) -> 0 | Q5: =VLOOKUP($D$8,List2!$A$3:$M$33,List2!$F$1,FALSE) -> 0 | R5: =VLOOKUP($D$8,List2!$A$3:$L$33,List2!$G$1,FALSE) -> 0 | S5: =VLOOKUP($D$8,List2!$A$3:$M$33,List2!$H$1,FALSE) -> 0
A6: 10 | B6: =VLOOKUP($A6,List2!$T$3:$W$14,3,FALSE) -> Redno naročilo | L6: 8 | M6: DGMŽ Ljubljana Moste-Polje | O6: =VLOOKUP($D$8,List2!$A$3:$M$33,List2!$I$1,FALSE) -> 0 | P6: =VLOOKUP($D$8,List2!$A$3:$M$33,List2!$J$1,FALSE) -> 0 | Q6: =VLOOKUP($D$8,List2!$A$3:$M$33,List2!$K$1,FALSE) -> 0 | R6: =VLOOKUP($D$8,List2!$A$3:$L$33,List2!$L$1,FALSE) -> 0 | S6: =VLOOKUP($D$8,List2!$A$3:$M$33,List2!$M$1,FALSE) -> 0
L7: 10 | M7: DZGMŽ Maribor
A8: DRUŠTVO matična št. | L8: 11 | M8: DGMŽ GOJITELJ Miklavž na Dravskem polju
A9: =VLOOKUP($D$8,List2!$A$2:$L$33,List2!$B$1,FALSE) -> 0 | L9: 12 | M9: DGPMŽ Murska Sobota
A10: NAROČNIK - vodja sekcije v društvo | L10: 14 | M10: DGMPŽ Novo Mesto
B11: =IF($A$5=4,$O$5,$O$6) -> 0 | F11: =IF($A$5=4,$S$5,$S$6) -> 0 | L11: 16 | M11: DGMŽ Pragersko
B12: =IF($A$5=4,$P$5,$P$6) -> 0 | L12: 17 | M12: DGMŽ Ptuj
B13: =IF($A$5=4,$Q$5,$Q$6) -> 0 | C13: =IF($A$5=4,$R$5,$R$6) -> 0 | L13: 18 | M13: DGMŽ na Koroškem
A14: mm | B14: kos | C14: €/kos | D14: Skupaj € | F14: mm | G14: kos | H14: €/kos | I14: Skupaj € | L14: 22 | M14: DGPMŽ Velike Lašče
A15: 2 | C15: =$C$32 -> 0.3 | D15: =B15*C15 -> 0 | F15: 7 | H15: =$C$32 -> 0.3 | I15: =G15*H15 -> 0 | L15: 23 | M15: DGPMŽ Vrhnika
A16: 2.2 | C16: =$C$32 -> 0.3 | D16: =B16*C16 -> 0 | F16: 8 | H16: =$C$32 -> 0.3 | I16: =G16*H16 -> 0 | L16: 24 | M16: DGMŽ Škofja Loka
A17: 2.5 | C17: =$C$32 -> 0.3 | D17: =B17*C17 -> 0 | F17: 9 | H17: =$C$32 -> 0.3 | I17: =G17*H17 -> 0 | L17: 25 | M17: ZZGMŽ Trbovlje
A18: 2.7 | C18: =$C$32 -> 0.3 | D18: =B18*C18 -> 0 | F18: 10 | H18: =$C$32 -> 0.3 | I18: =G18*H18 -> 0 | L18: 27 | M18: DGMPŽ Ormož
A19: 3 | C19: =$C$32 -> 0.3 | D19: =B19*C19 -> 0 | F19: 11 | H19: =$C$32 -> 0.3 | I19: =G19*H19 -> 0 | L19: 30 | M19: DGPMŽ Ivančna Gorica
A20: 3.2 | C20: =$C$32 -> 0.3 | D20: =B20*C20 -> 0 | F20: 12 | H20: =$C$32 -> 0.3 | I20: =G20*H20 -> 0 | L20: 32 | M20: DGPMŽ Odranci
A21: 3.5 | C21: =$C$32 -> 0.3 | D21: =B21*C21 -> 0 | F21: 13 | H21: =$C$32 -> 0.3 | I21: =G21*H21 -> 0 | L21: 33 | M21: SDGMŽO Žalec
A22: 3.8 | C22: =$C$32 -> 0.3 | D22: =B22*C22 -> 0 | F22: 14 | H22: =$C$32 -> 0.3 | I22: =G22*H22 -> 0 | L22: 34 | M22: DGPMŽ Laško
A23: 4 | C23: =$C$32 -> 0.3 | D23: =B23*C23 -> 0 | F23: 15 | H23: =$C$32 -> 0.3 | I23: =G23*H23 -> 0 | L23: 36 | M23: Združenje LGŽ Maribor
A24: 4.2 | C24: =$C$32 -> 0.3 | D24: =B24*C24 -> 0 | F24: 16 | H24: =$C$32 -> 0.3 | I24: =G24*H24 -> 0 | L24: 37 | M24: DGMPŽ Dravinjska dolina
A25: 4.4 | C25: =$C$32 -> 0.3 | D25: =B25*C25 -> 0 | F25: 18 | H25: =$C$32 -> 0.3 | I25: =G25*H25 -> 0 | L25: 40 | M25: DGMPŽ Gornja Radgona
A26: 4.5 | C26: =$C$32 -> 0.3 | D26: =B26*C26 -> 0 | F26: 20 | H26: =$C$32 -> 0.3 | I26: =G26*H26 -> 0 | L26: 50 | M26: DVVPMŽ RAKUN Slovenska Bistrica
A27: 5 | C27: =$C$32 -> 0.3 | D27: =B27*C27 -> 0 | F27: 22 | H27: =$C$32 -> 0.3 | I27: =G27*H27 -> 0 | L27: 52 | M27: KGGAPK King klub Slovenije
A28: 5.5 | C28: =$C$32 -> 0.3 | D28: =B28*C28 -> 0 | F28: 24 | H28: =$C$32 -> 0.3 | I28: =G28*H28 -> 0
A29: 6 | C29: =$C$32 -> 0.3 | D29: =B29*C29 -> 0 | F29: 27 | H29: =$C$32 -> 0.3 | I29: =G29*H29 -> 0
A30: 6.5 | C30: =$C$32 -> 0.3 | D30: =B30*C30 -> 0 | F30: 32 | H30: =$C$32 -> 0.3 | I30: =G30*H30 -> 0
B31: =SUM(B15:B30) -> 0 | D31: =SUM(D15:D30) -> 0 | G31: {=SUM(+G15:G30)} -> 0 | I31: =SUM(I15:I30) -> 0
A32: Cena za kos | C32: 0.3 | D32: SKUPAJ: | F32: =B31+G31 -> 0 | G32: kos | H32: =D31+I31 -> 0
A34: Obročke poslati na naslov:
A35: Ime in priimek
A36: Naslov: | F36: Pošta
E38: Žig | L38: Pošlji
L39: Natisni
A40: Podpis naročnika: | G40: Podpis predsednik društva:
A43: Kraj in datum:
B46: RAČUN
A49: =$D$8 -> 0
A50: =$A$9 -> 0
A51: =VLOOKUP($D$8,List2!$A$3:$P$33,List2!$N$1,FALSE) -> 0 | H51: SZDGPMŽ
A52: =VLOOKUP($D$8,List2!$A$3:$P$33,List2!$O$1,FALSE) -> 0 | B52: =VLOOKUP($D$8,List2!$A$3:$P$33,List2!$P$1,FALSE) -> 0 | H52: Pesje 24
H53: 8270 KRŠKO
G54: DŠ: | H54: 18180566
G55: TRR: | H55: SI56 02150 0090924107
J56: -
G58: Račun številka :
G59: Datum : | I59: =C3 -> 46193
G60: Valuta: | I60: 46218
B64: Na podlagi oddanega naročila vam zaračunavomo:
B66: NAROČILO | C66: za leto: | D66: =B4 -> 2027
B67: Vrsta naročila | D67: kos | F67: cena | G67: Skupaj
B68: =B5 -> Obročki za perutnino | D68: =F32 -> 0 | E68: x | F68: =C32 -> 0.3 | G68: =D68*F68 -> 0
B69: =B6 -> Redno naročilo
B70: Poštnina - strošek dostave | G70: 5
E71: Za plačilo: | G71: =SUM(G68:H70) -> 5
A73: Prosimo, da se pri plačilo sklicujete na številko sklica: | G73: =D8&J56&F5&J56&D66 -> -1020-2027
A75: DDV ni obračunan na podlagi 1. odstavka 94. člena Zakona o DDV
A77: Naročilo bo sprejeto ob predloženem potrdilu o plačanem računu!
A79: Izpolni odgovorna oseba pri SZDGPMŽ
F81: Žig
A82: Račun plačan dne :
G83: Podpis :

Sheet List2
A1: 1 | B1: 2 | C1: 3 | D1: 4 | E1: 5 | F1: 6 | G1: 7 | H1: 8 | I1: 9 | J1: 10 | K1: 11 | L1: 12 | M1: 13 | N1: 14 | O1: 15 | P1: 16 | Q1: 17 | R1: 18
A2: SZDGPMŽ_ID | B2: Ime društva | C2: Skrajšano ime društva | D2: Sekcija za perutnino | E2: Naslov5 | F2: Pošta5 | G2: Kraj5 | H2: Telefon5 | I2: Sekcija za golobe | J2: Naslov6 | K2: Pošta6 | L2: Kraj6 | M2: Telefon6 | N2: Naslov sedeža | O2: Pošta | P2: Kraj | Q2: Davčna številka | R2: TRR številka | V2: SKLIC -namen nakazila | W2: SKLIC -namen nakazila
A3: 1 | B3: Društvo gojiteljev malih živali Beltinci | C3: DGMŽ Beltinci | D3: Bernardi Alen | E3: Finžgarjeva ulica 4 | F3: 9231 | G3: Beltinci | H3: 40613712 | I3: Herman Anton | J3: Cvetna ulica 20 -Gornji lakuš | K3: 9220 | L3: Lendava - Lendva | M3: 25761239 | N3: Travniška ulica 14 | O3: 9231 | P3: Beltinci | Q3: 62296175 | R3: SI56023460012788375
A4: 2 | B4: Društvo rejcev malih živali Brežice | C4: DRMŽ Brežice | D4: Lopatič Ivan | E4: Pesje 24 | F4: 28270 | G4: Krško | H4: 40281524 | I4: Kraševec Nejc | J4: Veliko Mraševo 70 | K4: 8312 | L4: Podbočje | M4: 51499776 | N4: Slovenska vas 46 | O4: 8261 | P4: Jesenice na Dolenjskem | Q4: 92938965 | R4: SI56 6000 0000 0253 823
A5: 5 | B5: Društvo rejcev malih živali Jesenice | C5: DRMŽ Jesenice | D5: Polončič Bojana | E5: Posavec 118 | F5: 4244 | G5: Podnart | H5: 31713877 | I5: Ločniškar Jože | J5: Žlebe 30 | K5: 1215 | L5: Medvode | M5: 41677577 | N5: Ulica Franca Jerala 6 | O5: 4270 | P5: Jesenice | Q5: 71885595 | R5: SI56 0313 9100 2502 889 | T5: 3 | U5: 13 | V5: Obročki za golobe | W5: 1019 | X5: 2026
A6: 7 | B6: DRUŠTVO GOJITELJEV MALIH ŽIVALI KRANJ | C6: DGMŽ Kranj | D6: Korošec Stane | E6: Orehovlje 18 | F6: 4000 | G6: Kranj | H6: 41724123 | I6: Korošec Stane | J6: Orehovlje 18 | K6: 4000 | L6: Kranj | M6: 41724123 | N6: Šutna 28 | O6: 4000 | P6: Kranj | Q6: 85303321 | R6: SI56906720000682553 | T6: 4 | U6: 14 | V6: Obročki za perutnino | W6: 1020 | X6: 2026
A7: 8 | B7: Društvo gojiteljev malih živali Ljubljana Moste - Polje | C7: DGMŽ Ljubljana Moste-Polje | D7: Pogačnik Gašper | E7: Videm 24 | F7: 1262 | G7: Dol pri Ljubljani | H7: 40342778 | I7: Turkič Muhamet | J7: Golišče 71 | K7: 1281 | L7: Kresnice | M7: 31232950 | N7: Cesta II. grupe odredov 43 | O7: 1261 | P7: Ljubljana - Dobrunje | Q7: 28561473 | R7: SI5690672000833291 | T7: 5 | V7: Obročki za ptice | W7: 1021 | X7: 2026
A8: 10 | B8: Društvo združenih gojiteljev malih živali Maribor | C8: DZGMŽ Maribor | D8: Muškatevc David | E8: Močna 2 | F8: 2231 | G8: Pernica | H8: 70410929 | I8: Pšunder Urban | J8: Cesta v Rošpoh 33 a | K8: 2351 | L8: Kamnica | M8: 41939938 | N8: Obrežna ulica 1 | O8: 2000 | P8: Maribor | Q8: 69336890 | R8: SI56 0417 3000 0738 946 | T8: 6 | U8: 15 | V8: Obročki za golobe | W8: 1022 | X8: 2026
A9: 11 | B9: Društvo gojiteljev malih živali Gojitelj Miklavž na Dravskem Polju | C9: DGMŽ GOJITELJ Miklavž na Dravskem polju | D9: Koren Boštjan | E9: Poljska cesta 6 | F9: 2327 | G9: Rače | H9: 40459593 | I9: Koren Boštjan | J9: Poljska cesta 6 | K9: 2327 | L9: Rače | M9: 40459593 | N9: Nad izviri 6 | O9: 2204 | P9: Miklavž na Dravskem polju | Q9: 26778840 | R9: SI56045150000403543 | T9: 7 | U9: 16 | V9: Obročki za perutnino | W9: 1023 | X9: 2026
A10: 12 | B10: Društvo gojiteljev pasemskih malih živali Murska Sobota | C10: DGPMŽ Murska Sobota | D10: Krmac Jani | E10: Gorica 11 | F10: 1251 | G10: Moravče | H10: 41713233 | I10: Žalig Ignac | J10: Trnje 126 | K10: 9232 | L10: Črenšovci | M10: 41674796 | N10: Cankarjeva ulica 13 | O10: 9000 | P10: Murska Sobota | Q10: 5265240 | R10: SI560234000016446054 | T10: 8 | V10: Obročki za ptice | W10: 1024
A11: 14 | B11: Društvo gojiteljev malih pasemskih živali Novo mesto | C11: DGMPŽ Novo Mesto | D11: Petrovčič Silvester | E11: Šmarješke toplice 24 | F11: 8220 | G11: Šmarješke Toplice | H11: 40366027 | I11: Judež Albin | J11: Žadovinek 23 | K11: 8273 | L11: Leskovec pri Krškem | M11: 41813110 | N11: Veliki Slatnik 34 a | O11: 8000 | P11: Novo mesto | Q11: 59264616 | R11: SI56 1990 6501 0966 398
A12: 16 | B12: Društvo gojiteljev malih živali Pragersko | C12: DGMŽ Pragersko | D12: Berlič Blaž | E12: Stari log | F12: 2331 | G12: Pragersko | H12: 31297778 | I12: Kancler Zvonko | J12: Kolodvorska 1 | K12: 2331 | L12: Pragersko | M12: 31527429 | N12: Ptujska cesta 41 a | O12: 2331 | P12: Pragersko | Q12: 90362292 | R12: SI56044300000839649
A13: 17 | B13: Društvo gojiteljev malih živali Ptuj | C13: DGMŽ Ptuj | D13: Sagadin Boris | E13: Prepolje 118 | F13: 2206 | G13: Marjeta na Dravskem polju | H13: 51603044 | I13: Peternik Danilo | J13: Ulica Jožefe Lacko 1 a | K13: 2250 | L13: Ptuj | M13: 41311360 | N13: Zadružni trg 12 | O13: 2250 | P13: Ptuj | Q13: 55396879 | R13: SI56 0215 0008 7806 139 | T13: 10 | V13: Redno naročilo | W13: 1
A14: 18 | B14: Društvo rejcev malih živali na Koroškem | C14: DGMŽ na Koroškem | D14: Černjak Peter | E14: Stražišče 83 | F14: 2391 | G14: Prevalje | H14: 41232656 | I14: Ošlovnik Damjan | J14: Šmartno 157 | K14: 2383 | L14: Šmartno pri Slovenj Gradcu | M14: 51382922 | N14: Podgora 16 a | O14: 2394 | P14: Kotlje | Q14: 70908281 | R14: SI56 0247 0025 3756 974 | T14: 12 | V14: Po naročilo | W14: 2
A15: 22 | B15: Društvo gojiteljev pasemskih malih živali Velike Lašče | C15: DGPMŽ Velike Lašče | D15: Gumilar Rok | E15: Grebenje 1 | F15: 1315 | G15: Velike Lašče | H15: 31352927 | I15: Gumilar Rok | J15: Grebenje 1 | K15: 1315 | L15: Velike Lašče | M15: 31352927 | N15: Na postajo 14 | O15: 1315 | P15: Velike Lašče | Q15: 77281071 | R15: SI56043020002653904
A16: 23 | B16: Društvo gojiteljev pasemskih malih živali Vrhnika | C16: DGPMŽ Vrhnika | D16: Kunc Zvone | E16: Pod Grintavcem 2 | F16: 1370 | G16: Logatec | H16: 31733783 | I16: Bedekovič Zlatko | J16: Podplešivica 20 | K16: 1357 | L16: Notranje Gorice | M16: 41464346 | N16: Bevke 94 b | O16: 1358 | P16: Log pri Brezovici | Q16: 23377372 | R16: SI56020270088741329 | V16: Primer : udeležba na EE razstavi za DGPMŽ Laško, UPN obrazec , SKLIC : 1353 - 1010
A17: 24 | B17: Društvo gojiteljev malih živali Škofja Loka | C17: DGMŽ Škofja Loka | D17: Lah Marko | E17: Trata 22 | F17: 4220 | G17: Škofja Loka | H17: 41588639 | I17: Žurbi Mirko | J17: Podgorje 64 c | K17: 1241 | L17: Kamnik | M17: 41460165 | N17: Trata 22 | O17: 4220 | P17: Škofja Loka | Q17: 37615009 | R17: SI56023120254755862
A18: 25 | B18: Združenje zasavskih gojiteljev malih živali | C18: ZZGMŽ Trbovlje | D18: Manfreda Srečko | E18: Partizanskacesta 33 | F18: 1420 | G18: Trbovlje | H18: 40294182 | I18: Manfreda Srečko | J18: Partizanska cesta 33 | K18: 1420 | L18: Trbovlje | M18: 40294182 | N18: Ribnik 19 | O18: 1420 | P18: Trbovlje | Q18: 92464858 | R18: SI56610006100000062
A19: 27 | B19: Društvo gojiteljev malih pasemskih živali Ormož | C19: DGMPŽ Ormož | D19: Vaupotič Bojan | E19: Sobetinci 42 c | F19: 2281 | G19: Markovci | H19: 41666975 | I19: Plohl Stanislav | J19: Cvetkovci 72 a | K19: 2273 | L19: Podgorci | M19: 31414405 | N19: Dobrava 2 | O19: 2270 | P19: Ormož | Q19: 30253063 | R19: SI56031231012380795
A20: 30 | B20: Društvo gojiteljev pasemskih malih živali Ivančna Gorica | C20: DGPMŽ Ivančna Gorica | D20: Pajk Alojz | E20: Vir pri Stični 101 | F20: 1295 | G20: Ivančna Gorica | H20: 41871340 | I20: Kastelic Anže | J20: Vir pri Stični 24 | K20: 1295 | L20: Ivančna Gorica | M20: 31576031 | N20: Vir pri Stični 101 | O20: 1295 | P20: Ivančna Gorica | Q20: 12336319 | R20: SI56020410091898575
A21: 32 | B21: DRUŠTVO GOJITELJEV PASEMSKIH MALIH ŽIVALI ODRANCI | C21: DGPMŽ Odranci | D21: Felbar David | E21: Renkovci 111 | F21: 9224 | G21: Turnišče | H21: 41261227 | I21: Horvat Karel | J21: Dolinska ulica 15 | K21: 9233 | L21: Odranci | M21: 41673569 | N21: Panonska ulica 33 | O21: 9233 | P21: Odranci | Q21: 59139331 | R21: SI56048810002900819
A22: 33 | B22: Savinjsko društvo gojiteljev malih živali občine Žalec | C22: SDGMŽO Žalec | D22: Stropnik FundaSanja | E22: Žebnik 19 | F22: 1433 | G22: Radeče | H22: 51268784 | I22: Stropnik Zlatko | J22: Cvetlična Ulica 55 | K22: 3313 | L22: Polzela | M22: 41783245 | N22: Ulica Savinjske čete 4 | O22: 3310 | P22: Žalec | Q22: 58070222 | R22: SI56051008015194654
A23: 34 | B23: Društvo gojiteljev pasemskih malih živali Laško | C23: DGPMŽ Laško | D23: Ojsteršek Milan | E23: Rifengozd 14 | F23: 3270 | G23: Laško | H23: 40935550 | N23: Huda jama 1 | O23: 3270 | P23: Laško | Q23: 62243098 | R23: SI56051008015228313
A24: 36 | B24: Združenje ljubiteljev in gojiteljev živali Maribor | C24: Združenje LGŽ Maribor | D24: Brumec Stanko | E24: Košaški dol 134 | F24: 2000 | G24: Maribor | H24: 40723201 | I24: Jeza Štefan | J24: Apače 52 | K24: 2324 | L24: Lovrenc na Dravskem polju | M24: 41755061 | N24: Petrovičeva ulica 12 | O24: 2000 | P24: Maribor | Q24: 13404300
A25: 37 | B25: Društvo gojiteljev malih pasemskih živali Dravinjska dolina | C25: DGMPŽ Dravinjska dolina | D25: Hren Slavko | E25: Padeški vrh 27 | F25: 3214 | G25: Zreče | H25: 40345161 | I25: Filovič Sakib | J25: Cesta kozjanskega odreda 4 | K25: 2320 | L25: Štore | M25: 40392962 | N25: Mizarska ulica 1 | O25: 3210 | P25: Slovenske Konjice | Q25: 42422949 | R25: SI56 0400 1004 7468 782
A26: 40 | B26: DRUŠTVO GOJITELJEV MALIH PASEMSKIH ŽIVALI GORNJA RADGONA | C26: DGMPŽ Gornja Radgona | D26: Serdt Andrejka | E26: Aženski vrh 15 | F26: 9250 | G26: Gornja Radgona | H26: 70392676 | I26: Veglič Aleš | J26: Aženski vrh 15 | K26: 9250 | L26: Gornja Radgona | M26: 51415251 | N26: Aženski Vrh 15 | O26: 9250 | P26: Gornja Radgona
A27: 50 | B27: Društvo za varstvo in vzgojo ptic in malih živali rakun Slovenska Bisreica | C27: DVVPMŽ RAKUN Slovenska Bistrica | D27: Paj Rok | E27: Spodnja polskava 285 | F27: 2331 | G27: Pragersko | H27: 40671564 | I27: Genc Pavel | J27: Vorančeva 21 | K27: 2319 | L27: Poljčane | M27: 40797973 | N27: Tomšičeva ulica 38 | O27: 2310 | P27: Slovenska Bistrica | Q27: 42195681 | R27: SI5604430000838970
A28: 52 | B28: Klub gojiteljev golobov ameriške pasme King klub Slovenije | C28: KGGAPK King klub Slovenije | I28: Štumberger Franc | J28: Nova vas pri Ptuju 104a | K28: 2250 | L28: Ptuj | M28: 31629648 | N28: Zgornji Duplek 57 a | O28: 2241 | P28: Spodnji Duplek | Q28: 58629831 | R28: SI56041730000877656
A29: 90 | B29: Zveza društev gojiteljev pasemskih malih živali severovzhodne Slovenije | C29: ZDGPMŽSV | D29: Koren Boštjan | E29: Poljska 6 | F29: 2327 | G29: Rače | H29: 40459593 | I29: Ledinek Ivan | J29: Gubčeva 6 | K29: 2380 | L29: Slovenj Gradec | M29: 41426289 | N29: Cankarjeva ulica 13 | O29: 9000 | P29: Murska Sobota | Q29: 72024909 | R29: SI56023400053818117
A30: 98 | B30: Združenje sodnikov pri slovenski zvez društev gojiteljev pasemskih malih živali | C30: ZSPSZDGPMŽ | D30: Zorman Rudi | E30: Celovška cesta29 | F30: 2392 | G30: Mežica | H30: 51685511 | I30: Peternik Danilo | J30: Ulica Jožefe Lackove 11 | K30: 2250 | L30: Ptuj | N30: Dolga Brda 35 | O30: 2391 | P30: Prevalje | R30: SI56020910258087195 | S30: .
A31: 99 | B31: Slovenska zveza društev gojiteljev pasemskih malih živali | C31: SZDGPMŽ | D31: Petrovčič Silvester | E31: Šmarješke Toplice 24 | F31: 8220 | G31: Šmarješke Toplice | H31: 40366027 | I31: Pšunder Smodič Urban | J31: Cesta v Rošpoh 33 a | K31: 2351 | L31: Kamnica | M31: 41939938 | N31: Pesje 24 | O31: 8270 | P31: Krško | Q31: 18180566 | R31: SI56021500090924107
A32: 100 | C32: EE
A33: 0

Sheet List3
A1: ID | B1: Skrajšano ime društva
A2: 1 | B2: DGMŽ Beltinci
A3: 2 | B3: DRMŽ Brežice
A4: 5 | B4: DRMŽ Jesenice
A5: 7 | B5: DGMŽ Kranj
A6: 8 | B6: DGMŽ Ljubljana Moste-Polje
A7: 10 | B7: DZGMŽ Maribor
A8: 11 | B8: DGMŽ GOJITELJ Miklavž na Dravskem polju
A9: 12 | B9: DGPMŽ Murska Sobota
A10: 14 | B10: DGMPŽ Novo Mesto
A11: 15 | B11: DGMŽ Oplotnica
A12: 16 | B12: DGMŽ Pragersko
A13: 17 | B13: DGMŽ Ptuj
... A29: 52 | B29: KGGAPK King klub Slovenije
A30: 0 | B30: 0

Sheet List4
A1: ID | B1: Matična stevilka | C1: Ime društva | D1: Skrajšano ime društva | E1: Občina sedeža društva | F1: Sedež droštva | G1: Naslov sedeža | H1: Osebno ime 1 zastopnik | I1: osebno ime 2 zastopnik | J1: Datum registracije | K1: SZDGPMŽ_ID | L1: Status društva_aktivno
A2: 32 | B2: 5225736000 | C2: Društvo gojiteljev malih živali Beltinci | D2: DGMŽ Beltinci | E2: Beltinci | F2: Beltinci | G2: Pot ob Črncu 7 | H2: Kovačič Janez | J2: 29908 | K2: 1 | L2: TRUE
A3: 17 | B3: 5245559000 | C3: Društvo rejcev malih živali Brežice | D3: DRMŽ Brežice | E3: Brežice | F3: Brežice | G3: Slovenska vas 46 | H3: Ivan Lopatič | J3: 30044 | K3: 2 | L3: TRUE
A4: 13 | B4: 5151937000 | C4: Društvo rejcev malih živali Jesenice | D4: DRMŽ Jesenice | E4: Jesenice | F4: Jesenice | G4: Ulica Franca Jerala 6 | H4: Andrej Meterc | J4: 19407 | K4: 5 | L4: TRUE
A5: 33 | B5: 5194539000 | C5: DRUŠTVO GOJITELJEV MALIH ŽIVALI KRANJ | D5: DGMŽ Kranj | E5: Kranj | F5: Šutna | G5: Šutna 28 | H5: Stanislav Korošec | J5: 19186 | K5: 7 | L5: TRUE
A6: 18 | B6: 5257727000 | C6: Društvo gojiteljev malih živali Ljubljana Moste - Polje | D6: DGMŽ Ljubljana Moste-Polje | E6: Ljubljana | F6: Ljubljana | G6: Cesta II. grupe odredov 43 | H6: Matej Jeraša | J6: 30722 | K6: 8 | L6: TRUE
A7: 11 | B7: 51091750000 | C7: Društvo združenih gojiteljev malih živali Maribor | D7: DZGMŽ Maribor | E7: Maribor | F7: Maribor | G7: Obrežna ulica 1 | H7: Sonja Gomboc | J7: 22543 | K7: 10 | L7: TRUE
A8: 22 | B8: 5270723000 | C8: Društvo gojiteljev malih živali Gojitelj Miklavž na Dravskem Polju | D8: DGMŽ GOJITELJ Miklavž na Dravskem polju | E8: Miklavž na Dravskem | F8: Miklavž na Dravskem | G8: Nad izviri 6 | H8: Boštjan Koren | J8: 31572 | K8: 11 | L8: TRUE
A9: 34 | B9: 5265240000 | C9: Društvo gojiteljev pasemskih malih živali Murska Sobota | D9: DGPMŽ Murska Sobota | E9: Murska Sobota | F9: Murska sobota | G9: Cankarjeva ulica 13 | H9: Olga Zver | J9: 31216 | K9: 12 | L9: TRUE
A10: 25 | B10: 5837057000 | C10: Društvo gojiteljev malih pasemskih živali Novo mesto | D10: DGMPŽ Novo Mesto | E10: Novo mesto | F10: Novo mesto | G10: Veliki Slatnik 34 a | H10: Alojz Vidmar | J10: 34409 | K10: 14 | L10: TRUE
A11: 35 | B11: 5162165000 | C11: Društvo gojiteljev malih živali Oplotnica | D11: DGMŽ Oplotnica | E11: Oplotnica | F11: Oplotnica | G11: Ulica Pohorskega bataljona 13 | H11: Patricij Perklič | J11: 25255 | K11: 15 | L11: TRUE
A12: 20 | B12: 5266459000 | C12: Društvo gojiteljev malih živali Pragersko | D12: DGMŽ Pragersko | E12: Slovenska Bistrica | F12: Pragersko | G12: Ptujska cesta 41 a | H12: Marjan Bauman | J12: 31131 | K12: 16 | L12: TRUE
A13: 36 | B13: 5265231000 | C13: Društvo gojiteljev malih živali Ptuj | D13: DGMŽ Ptuj | E13: Ptuj | F13: Ptuj | G13: Zadružni trg | H13: Jože Šlamberger | J13: 28296 | K13: 17 | L13: TRUE
... A32: 15 | B32: 5219230000 | C32: Slovenska zveza društev gojiteljev pasemskih malih živali | D32: SZDGPMŽ | E32: Krško | F32: Pesje | G32: Pesje 24 | H32: Ivan Lopatič | J32: 28562 | K32: 99 | L32: TRUE

Sheet List5

Sheet List6

Sheet List7

Sheet List8
